BEGIN:VCALENDAR
VERSION:2.0
METHOD:PUBLISH
PRODID:-//Telerik Inc.//Sitefinity CMS 15.4//EN
BEGIN:VTIMEZONE
TZID:Central Standard Time
BEGIN:STANDARD
DTSTART:20251102T020000
RRULE:FREQ=YEARLY;BYDAY=1SU;BYHOUR=2;BYMINUTE=0;BYMONTH=11
TZNAME:Central Standard Time
TZOFFSETFROM:-0500
TZOFFSETTO:-0600
END:STANDARD
BEGIN:DAYLIGHT
DTSTART:20250301T020000
RRULE:FREQ=YEARLY;BYDAY=2SU;BYHOUR=2;BYMINUTE=0;BYMONTH=3
TZNAME:Central Daylight Time
TZOFFSETFROM:-0600
TZOFFSETTO:-0500
END:DAYLIGHT
END:VTIMEZONE
BEGIN:VEVENT
DESCRIPTION:Event Type: Conference/WorkshopINTC invites higher education\, 
 state educational agencies\, administrators\, teacher leaders and mentors 
 to come to learn and grow with educators from Illinois and across the coun
 try. The INTC Leadership Conference is a day-long experience packed with f
 eatured speakers\, breakout sessions\, and networking opportunities that p
 romise to enhance your leadership skills and elevate your impact.&nbsp\;In
 spiring Featured Speakers: Be inspired by education leaders who will share
  their insights and experiences. Their stories will surely spark new ideas
  and provide valuable takeaways.&nbsp\;Interactive Breakout Sessions: Dive
  into engaging sessions designed to enhance your skills and knowledge. Our
  experts will guide you through real-world examples leaving you with pract
 ical tips to put into use right away.&nbsp\;Networking Opportunities: Conn
 ect with like-minded professionals\, exchange ideas\, and build lasting re
 lationships. This is your chance to expand your network and collaborate wi
 th peers.&nbsp\;This low-cost conference is made possible through the gene
 rous support of the College of Education at Illinois. Discounts available 
 for groups of 3 or more.&nbsp\;Cost: $99Contact: Karla McAdam217-520-2562k
 mcadam@illinois.eduSponsor: Illinois New Teacher Collaborative
DTEND:20260616T130000Z
DTSTAMP:20260420T061135Z
DTSTART:20260616T130000Z
LOCATION:IL\,USA\,Champaign\,Campus Instructional Facility
SEQUENCE:0
SUMMARY:INTC Leadership Conference - Leading with Welcome: Cultivating Mean
 ingful Connections
UID:RFCALITEM639122442950615454
X-ALT-DESC;FMTTYPE=text/html:<p class="eventtype"><span class="event-headin
 g eventtype">Event Type:</span> Conference/Workshop</p><p id="isPasted">IN
 TC invites higher education\, state educational agencies\, administrators\
 , teacher leaders and mentors to come to learn and grow with educators fro
 m Illinois and across the country. <span style="background-color: rgba(0\,
  0\, 0\, 0)">The INTC Leadership Conference is a day-long experience packe
 d with featured speakers\, breakout sessions\, and networking opportunitie
 s that promise to enhance your leadership skills and elevate your impact.<
 /span></p><p><span id="docs-internal-guid-328524c5-7fff-9384-d1f1-84b791bc
 09e8">&nbsp\;</span><strong style="background-color: rgba(0\, 0\, 0\, 0)">
 Inspiring Featured Speakers</strong><span style="background-color: rgba(0\
 , 0\, 0\, 0)">: Be inspired by education leaders who will share their insi
 ghts and experiences. Their stories will surely spark new ideas and provid
 e valuable takeaways.</span><span style="background-color: rgba(0\, 0\, 0\
 , 0)">&nbsp\;</span></p><p><br></p><p dir="ltr"><strong>Interactive Breako
 ut Sessions</strong>: Dive into engaging sessions designed to enhance your
  skills and knowledge. Our experts will guide you through real-world examp
 les leaving you with practical tips to put into use right away.<span style
 ="background-color: rgba(0\, 0\, 0\, 0)">&nbsp\;</span></p><p dir="ltr"><s
 trong>Networking Opportunities</strong>: Connect with like-minded professi
 onals\, exchange ideas\, and build lasting relationships. This is your cha
 nce to expand your network and collaborate with peers.<span style="backgro
 und-color: rgba(0\, 0\, 0\, 0)">&nbsp\;</span></p><p><br></p><p>This low-c
 ost conference is made possible through the generous support of the Colleg
 e of Education at Illinois. Discounts available for groups of 3 or more.&n
 bsp\;</p><p><br></p><p><br></p><p class="cost"><span class="event-heading 
 cost">Cost:</span> $99</p><p class="contact"><span class="event-heading co
 ntact">Contact:</span> Karla McAdam217-520-2562<br><a href="mailto:kmcadam
 @illinois.edu">kmcadam@illinois.edu</a></p><p class="sponsor"><span class=
 "event-heading sponsor">Sponsor:</span> Illinois New Teacher Collaborative
 </p>
END:VEVENT
END:VCALENDAR
